BEGIN:VCALENDAR
VERSION:2.0
PRODID:-//Nevada Hotel &amp; Lodging Foundation - ECPv6.15.20//NONSGML v1.0//EN
CALSCALE:GREGORIAN
METHOD:PUBLISH
X-ORIGINAL-URL:https://nvhotelfoundation.org
X-WR-CALDESC:Events for Nevada Hotel &amp; Lodging Foundation
REFRESH-INTERVAL;VALUE=DURATION:PT1H
X-Robots-Tag:noindex
X-PUBLISHED-TTL:PT1H
BEGIN:VTIMEZONE
TZID:America/Los_Angeles
BEGIN:DAYLIGHT
TZOFFSETFROM:-0800
TZOFFSETTO:-0700
TZNAME:PDT
DTSTART:20240310T100000
END:DAYLIGHT
BEGIN:STANDARD
TZOFFSETFROM:-0700
TZOFFSETTO:-0800
TZNAME:PST
DTSTART:20241103T090000
END:STANDARD
BEGIN:DAYLIGHT
TZOFFSETFROM:-0800
TZOFFSETTO:-0700
TZNAME:PDT
DTSTART:20250309T100000
END:DAYLIGHT
BEGIN:STANDARD
TZOFFSETFROM:-0700
TZOFFSETTO:-0800
TZNAME:PST
DTSTART:20251102T090000
END:STANDARD
BEGIN:DAYLIGHT
TZOFFSETFROM:-0800
TZOFFSETTO:-0700
TZNAME:PDT
DTSTART:20260308T100000
END:DAYLIGHT
BEGIN:STANDARD
TZOFFSETFROM:-0700
TZOFFSETTO:-0800
TZNAME:PST
DTSTART:20261101T090000
END:STANDARD
END:VTIMEZONE
BEGIN:VEVENT
DTSTART;TZID=America/Los_Angeles:20250426T080000
DTEND;TZID=America/Los_Angeles:20250426T133000
DTSTAMP:20260424T123830
CREATED:20240130T204430Z
LAST-MODIFIED:20250117T195158Z
UID:763-1745654400-1745674200@nvhotelfoundation.org
SUMMARY:The Great Chef Run 2025
DESCRIPTION:Sign Up Today For The Las Vegas Great Chef Run 2025 \nDespite our name\, you don’t have to be a Chef\, you don’t have to be Great and you don’t have to Run. Anyone can enter whether a runner or walker\, hospitality industry colleague or not\, this is a unique local fundraising event that raises funds to support Hospitality Students in Nevada. This is our chance to give back to our state’s largest industry. \nWith your registration you will get not just a well organized and fun race\, but also an incredible goodie bag full of all the supplies you need to look the part including our signature Chef Coat tech t-shirt and Chef Hat and giveaways worth over $100. \nCome and join in the fun and run\, jog or walk our spectator friendly 5k course at James Regional Park and afterwards enjoy a range of delicious tasty treats created by some of the best chefs in our city\, entertainment from nightclub DJs and a wide range of vendors! \nSo bring your family and friends to support and join us for a great morning of food and fun. \nEvent Details \n\nEvent: Saturday April 26th\, 2025 at James Regional Park in Las Vegas\nStart time: 8:00 am\nRun\, jog or walk the 5K course\n\nRegister Here
URL:https://nvhotelfoundation.org/event/the-great-chef-run-2025/
LOCATION:James Regional Sports Park\, 8400 W Robindale Rd\, Las Vegas\, NV\, 89113\, United States
CATEGORIES:Great Chef Run
END:VEVENT
END:VCALENDAR